BEGIN:VCALENDAR
VERSION:2.0
CREATED:20260421T205646Z
PRODID:-//Joby Aero\, Inc./Equisolve Calendar v1.0//EN
METHOD:PUBLISH
BEGIN:VEVENT
UID:27932b9bd540aad9b5f94ab65314a093
DTSTAMP:20260422T122406Z
DTSTART:20260602T160000Z
DTEND:20260602T170000Z
SUMMARY:2026 Annual Meeting of Stockholders
DESCRIPTION:2026 Annual Meeting of Stockholders\nDate: Jun 2\, 2026 9:00 am PDT\nWebcast: https://east.virtualshareholdermeeting.com/vsm/web?pvskey=JOBY2026
END:VEVENT
END:VCALENDAR
