BEGIN:VCALENDAR
VERSION:2.0
CREATED:20260422T105534Z
PRODID:-//Joby Aero\, Inc./Equisolve Calendar v1.0//EN
METHOD:PUBLISH
BEGIN:VEVENT
UID:0e75ccc15e1df1fdfccf63c10b032b38
DTSTAMP:20260423T123816Z
DTSTART:20260505T210000Z
DTEND:20260505T220000Z
SUMMARY:First Quarter 2026 Financial Results Conference Call
DESCRIPTION:First Quarter 2026 Financial Results Conference Call\nDate: May 5\, 2026 5:00 pm EDT\nWebcast: https://event.choruscall.com/mediaframe/webcast.html?webcastid=M3xWNZoj
END:VEVENT
END:VCALENDAR
